BEGIN:VCALENDAR
VERSION:2.0
PRODID:-//Library Market//iCal Export//EN
BEGIN:VEVENT
SUMMARY:Intro to Needle Felting: Prehistoric Forms
UID:24265
DTSTAMP:20260421T183600Z
DTSTART:20260711T150000Z
DTEND:20260711T170000Z
LOCATION:Wicomico Public Library, 122 S. Division Street, Salisbury, MD 21
 801, United States
ROOM: STEAM Studio
DESCRIPTION:Unearth your creativity this summer! As part of “Unearth a S
 tory” summer reading theme, teens and adults are invited to explore the 
 ancient past through the art of needle felting. In this beginner-friendly 
 workshop, learn how to shape wool fibers using felting needles to create y
 our own miniature prehistoric figure—like a tiny dinosaur.No prior exper
 ience is needed—just curiosity and a willingness to try something new. 
 All materials will be provided. Space is limited; registration is required
 .
URL:https://www.wicomicolibrary.org/event/intro-needle-felting-prehistoric
 -forms-24265
END:VEVENT
END:VCALENDAR
