BEGIN:VCALENDAR
VERSION:2.0
PRODID:-//Library Market//iCal Export//EN
BEGIN:VEVENT
SUMMARY:It&#039;s Storytime! @ The Centre
UID:25070
DTSTAMP:20260423T200100Z
DTSTART:20260603T030000Z
DTEND:20260603T033000Z
LOCATION:Wicomico Public Libraries, 2300 N. Salisbury Blvd, Salisbury, MD 
 21801, United States
ROOM: The Storybook Room
DESCRIPTION:Come join us for stories, games, and crafts at the Centre Bran
 ch!Every other Tuesday of the month for ages 0-3! :)
URL:https://www.wicomicolibrary.org/event/its-storytime-centre-25070
END:VEVENT
END:VCALENDAR
